BEGIN:VCALENDAR
VERSION:2.0
PRODID:-//Kino Tuškanac//Filmski programi//HR
BEGIN:VEVENT
UID:a60ebbd8535611db768e7b591f0b00da@kinotuskanac.hr
DTSTAMP:20260423T144728Z
DTSTART:20240723T210000
DTEND:20240723T230000
SUMMARY:Surplus
LOCATION:Kino Tuškanac
DESCRIPTION:Srbija, 2008 | Mjesto prikazivanja filma: Kulturno informativni centar KIC (Preradovićeva ul. 5) R: Doplgenger .
END:VEVENT
END:VCALENDAR