BEGIN:VCALENDAR
VERSION:2.0
PRODID:-//Kino Tuškanac//Filmski programi//HR
BEGIN:VEVENT
UID:98679e29848940a3f51c0c9f9dd41530@kinotuskanac.hr
DTSTAMP:20260423T144620Z
DTSTART:20240723T210000
DTEND:20240723T230000
SUMMARY:The Thinker in the Supermarket
LOCATION:Kino Tuškanac
DESCRIPTION:Srbija, 2013 R: Igor Simić
END:VEVENT
END:VCALENDAR