BEGIN:VCALENDAR
VERSION:2.0
PRODID:-//Kino Tuškanac//Filmski programi//HR
BEGIN:VEVENT
UID:ff1ad61a16ff99db1e3ba2165cfecfe0@kinotuskanac.hr
DTSTAMP:20260423T144816Z
DTSTART:20240723T210000
DTEND:20240723T230000
SUMMARY:Imploder
LOCATION:Kino Tuškanac
DESCRIPTION:Hrvatska, 2020 R: Vladislav Knežević
END:VEVENT
END:VCALENDAR