BEGIN:VCALENDAR
VERSION:2.0
PRODID:-//Kino Tuškanac//Filmski programi//HR
BEGIN:VEVENT
UID:08249c6a15eba285846726d3b90276eb@kinotuskanac.hr
DTSTAMP:20260423T143805Z
DTSTART:20240723T210000
DTEND:20240723T230000
SUMMARY:Breaking Stones
LOCATION:Kino Tuškanac
DESCRIPTION:Albanija, 2017 R: Armando Lulaj
END:VEVENT
END:VCALENDAR