BEGIN:VCALENDAR
VERSION:2.0
PRODID:-//Kino Tuškanac//Filmski programi//HR
BEGIN:VEVENT
UID:598ac72568549cc84d8a476f154ab34c@kinotuskanac.hr
DTSTAMP:20260421T220751Z
DTSTART:20240723T210000
DTEND:20240723T230000
SUMMARY:Infimes Détails: Un Film, Deux Tailles
LOCATION:Kino Tuškanac
DESCRIPTION:Srbija, 2022 R: Miljana Niković
END:VEVENT
END:VCALENDAR