BEGIN:VCALENDAR
VERSION:2.0
PRODID:-//Kino Tuškanac//Filmski programi//HR
BEGIN:VEVENT
UID:9b20629977258d17aa669ea2c38b90a0@kinotuskanac.hr
DTSTAMP:20260421T080352Z
DTSTART:20240916T210000
DTEND:20240916T230000
SUMMARY:Opasne djevojke
LOCATION:Kino Tuškanac
DESCRIPTION:Mean Girls, SAD, 2004 | Mjesto prikazivanja filma: Kino Forum (SD Stjepan Radić, Jarunska ul. 2) R: Mark Waters
END:VEVENT
END:VCALENDAR