BEGIN:VCALENDAR
VERSION:2.0
PRODID:-//Kino Tuškanac//Filmski programi//HR
BEGIN:VEVENT
UID:b757cb59c73fb5bc7504d81aa57441ca@kinotuskanac.hr
DTSTAMP:20260421T184128Z
DTSTART:20060619T190000
DTEND:20060619T210000
SUMMARY:Ljubav u bijegu
LOCATION:Kino Tuškanac
DESCRIPTION:L' amour en fuite, Francuska, 1979 R: François Truffaut
END:VEVENT
END:VCALENDAR