BEGIN:VCALENDAR
VERSION:2.0
PRODID:-//Kino Tuškanac//Filmski programi//HR
BEGIN:VEVENT
UID:0de041f4c12ba02924878d7e2977efe9@kinotuskanac.hr
DTSTAMP:20260421T092814Z
DTSTART:20240915T210000
DTEND:20240915T230000
SUMMARY:10 razloga zašto te mrzim
LOCATION:Kino Tuškanac
DESCRIPTION:10 Things I Hate About You, SAD, 1999 | Mjesto prikazivanja filma: Kino Forum (SD Stjepan Radić, Jarunska ul. 2) R: Gil Junger
END:VEVENT
END:VCALENDAR