BEGIN:VCALENDAR
VERSION:2.0
PRODID:-//Kino Tuškanac//Filmski programi//HR
BEGIN:VEVENT
UID:ce0d9bca6a0970f3101d749da7d9cb2b@kinotuskanac.hr
DTSTAMP:20260419T143745Z
DTSTART:20240926T210000
DTEND:20240926T230000
SUMMARY:Svemu dođe kraj
LOCATION:Kino Tuškanac
DESCRIPTION:Bugarska, Srbija, Crna Gora, Sjeverna Makedonija, Bosna i Hercegovina, Turska, 2024 | Mjesto prikazivanja filma: Kino Forum (SD Stjepan Radić, Jarunska ul. 2) R: Rajko Grlić
END:VEVENT
END:VCALENDAR