BEGIN:VCALENDAR
VERSION:2.0
PRODID:-//Kino Tuškanac//Filmski programi//HR
BEGIN:VEVENT
UID:77d2c1c4e9ea03b2d9c48f625715223d@kinotuskanac.hr
DTSTAMP:20260424T212434Z
DTSTART:20240930T210000
DTEND:20240930T230000
SUMMARY:Megalopolis
LOCATION:Kino Tuškanac
DESCRIPTION:SAD, 2024 | Mjesto prikazivanja filma: Kino Forum (SD Stjepan Radić, Jarunska ul. 2) R: Francis Ford Coppola
END:VEVENT
END:VCALENDAR