BEGIN:VCALENDAR
VERSION:2.0
PRODID:-//Kino Tuškanac//Filmski programi//HR
BEGIN:VEVENT
UID:0fee23b52c30e7873181cd1d259a3c7c@kinotuskanac.hr
DTSTAMP:20260422T105120Z
DTSTART:20060619T210000
DTEND:20060619T230000
SUMMARY:Posljednji metro
LOCATION:Kino Tuškanac
DESCRIPTION:Le dernier métro, Francuska, 1980 R: François Truffaut
END:VEVENT
END:VCALENDAR