BEGIN:VCALENDAR
VERSION:2.0
PRODID:-//Kino Tuškanac//Filmski programi//HR
BEGIN:VEVENT
UID:86bb9c3c510b84f1909383c2d59cce24@kinotuskanac.hr
DTSTAMP:20260422T105119Z
DTSTART:20060620T190000
DTEND:20060620T210000
SUMMARY:Posljednji metro
LOCATION:Kino Tuškanac
DESCRIPTION:Le dernier métro, Francuska, 1980 R: François Truffaut
END:VEVENT
END:VCALENDAR