BEGIN:VCALENDAR
VERSION:2.0
PRODID:-//Kino Tuškanac//Filmski programi//HR
BEGIN:VEVENT
UID:853b7875d5d99357d526f64d77885a5c@kinotuskanac.hr
DTSTAMP:20260421T184155Z
DTSTART:20060620T210000
DTEND:20060620T230000
SUMMARY:Ljubav u bijegu
LOCATION:Kino Tuškanac
DESCRIPTION:L' amour en fuite, Francuska, 1979 R: François Truffaut
END:VEVENT
END:VCALENDAR