BEGIN:VCALENDAR
VERSION:2.0
PRODID:-//Kino Tuškanac//Filmski programi//HR
BEGIN:VEVENT
UID:9a5fdf17d31c8b236f350483e99ba043@kinotuskanac.hr
DTSTAMP:20260420T115304Z
DTSTART:20241031T210000
DTEND:20241031T230000
SUMMARY:Anora
LOCATION:Kino Tuškanac
DESCRIPTION:SAD, 2024 | Mjesto prikazivanja filma: Kino Forum (SD Stjepan Radić, Jarunska ul. 2) R: Sean Baker
END:VEVENT
END:VCALENDAR