BEGIN:VCALENDAR
VERSION:2.0
PRODID:-//Kino Tuškanac//Filmski programi//HR
BEGIN:VEVENT
UID:7ca32f65cf9b5fed79d354d75000687c@kinotuskanac.hr
DTSTAMP:20260423T143823Z
DTSTART:20241029T210000
DTEND:20241029T230000
SUMMARY:Zona sumraka
LOCATION:Kino Tuškanac
DESCRIPTION:The Twilight Zone, SAD, 1959 | Mjesto prikazivanja filma: Kulturno informativni centar KIC (Preradovićeva ul. 5) R: Rod Serling
END:VEVENT
END:VCALENDAR