BEGIN:VCALENDAR
VERSION:2.0
PRODID:-//Kino Tuškanac//Filmski programi//HR
BEGIN:VEVENT
UID:bf96309a84d0183d90bb339afead7981@kinotuskanac.hr
DTSTAMP:20260419T225729Z
DTSTART:20241103T210000
DTEND:20241103T230000
SUMMARY:Zelena granica
LOCATION:Kino Tuškanac
DESCRIPTION:Zielona granica, Poljska, 2023 | Mjesto prikazivanja filma: Kulturno informativni centar KIC (Preradovićeva ul. 5) R: Agnieszka Holland
END:VEVENT
END:VCALENDAR