BEGIN:VCALENDAR
VERSION:2.0
PRODID:-//Kino Tuškanac//Filmski programi//HR
BEGIN:VEVENT
UID:9059e8d92fbdc095aebd770315400e66@kinotuskanac.hr
DTSTAMP:20260423T045502Z
DTSTART:20241121T190000
DTEND:20241121T210000
SUMMARY:Vrisak 3
LOCATION:Kino Tuškanac
DESCRIPTION:Scream 3, SAD, 2000 | Mjesto prikazivanja filma: Kino Forum (SD Stjepan Radić, Jarunska ul. 2) R: Wes Craven
END:VEVENT
END:VCALENDAR