BEGIN:VCALENDAR
VERSION:2.0
PRODID:-//Kino Tuškanac//Filmski programi//HR
BEGIN:VEVENT
UID:944c90bc8159edaca88d5edb247258bc@kinotuskanac.hr
DTSTAMP:20260421T113802Z
DTSTART:20241102T110000
DTEND:20241102T130000
SUMMARY:Merida hrabra
LOCATION:Kino Tuškanac
DESCRIPTION:Brave, SAD, 2012 | Mjesto prikazivanja filma: Scena Ribnjak (Centar mladih Ribnjak, Park Ribnjak 1) R: Mark Andrews
END:VEVENT
END:VCALENDAR