BEGIN:VCALENDAR
VERSION:2.0
PRODID:-//Kino Tuškanac//Filmski programi//HR
BEGIN:VEVENT
UID:46cbb5c292169e00db5c9aca9cc7312a@kinotuskanac.hr
DTSTAMP:20260420T130506Z
DTSTART:20241110T210000
DTEND:20241110T230000
SUMMARY:Isusov život
LOCATION:Kino Tuškanac
DESCRIPTION:La vie de Jésus, Francuska, 1997 | Mjesto prikazivanja filma: Kulturno informativni centar KIC (Preradovićeva ul. 5) R: Bruno Dumont
END:VEVENT
END:VCALENDAR