BEGIN:VCALENDAR
VERSION:2.0
PRODID:-//Kino Tuškanac//Filmski programi//HR
BEGIN:VEVENT
UID:f4720f3a9da3524e0eb44d6b14296f48@kinotuskanac.hr
DTSTAMP:20260420T130456Z
DTSTART:20241111T210000
DTEND:20241111T230000
SUMMARY:Ljudskost
LOCATION:Kino Tuškanac
DESCRIPTION:L'humanité, Francuska, 1999 | Mjesto prikazivanja filma: Kulturno informativni centar KIC (Preradovićeva ul. 5) R: Bruno Dumont
END:VEVENT
END:VCALENDAR