BEGIN:VCALENDAR
VERSION:2.0
PRODID:-//Kino Tuškanac//Filmski programi//HR
BEGIN:VEVENT
UID:01afb5ff804e1c6a4ad5073d68a1af33@kinotuskanac.hr
DTSTAMP:20260419T210341Z
DTSTART:20241127T190000
DTEND:20241127T210000
SUMMARY:Proslava
LOCATION:Kino Tuškanac
DESCRIPTION:Hrvatska, Katar, 2024 | Mjesto prikazivanja filma: Kino Forum (SD Stjepan Radić, Jarunska ul. 2) R: Bruno Anković
END:VEVENT
END:VCALENDAR