BEGIN:VCALENDAR
VERSION:2.0
PRODID:-//Kino Tuškanac//Filmski programi//HR
BEGIN:VEVENT
UID:cfab6d9cdbeb588f39a6b10b9c5523fa@kinotuskanac.hr
DTSTAMP:20260423T145625Z
DTSTART:20241119T210000
DTEND:20241119T230000
SUMMARY:SMRTI NEMA: nekrorealistički filmovi Jevgenija Jufita
LOCATION:Kino Tuškanac
DESCRIPTION:Bolničari-vukodlaci (1984), Drvosječa (1985), Proljeće (1987), Divlji veprovi suicida (1988), Smjelost (1988), Vitezovi nebeske visine (1989) | Mjesto prikazivanja filma: Kulturno informativni centar KIC (Preradovićeva ul. 5) R: Jevgenij Jufit
END:VEVENT
END:VCALENDAR