BEGIN:VCALENDAR
VERSION:2.0
PRODID:-//Kino Tuškanac//Filmski programi//HR
BEGIN:VEVENT
UID:079a311ac631d63dafb4d715fb3d8564@kinotuskanac.hr
DTSTAMP:20260421T080506Z
DTSTART:20241203T190000
DTEND:20241203T210000
SUMMARY:Naša djeca
LOCATION:Kino Tuškanac
DESCRIPTION:Hrvatska, 2024 | Mjesto prikazivanja filma: Centar za kulturu Histrionski dom (Ilica 90) R: Silvestar Kolbas
END:VEVENT
END:VCALENDAR