BEGIN:VCALENDAR
VERSION:2.0
PRODID:-//Kino Tuškanac//Filmski programi//HR
BEGIN:VEVENT
UID:3e8190033ec7cce6cc96d14aa263fc30@kinotuskanac.hr
DTSTAMP:20260425T173127Z
DTSTART:20241203T210000
DTEND:20241203T230000
SUMMARY:Cisco Pike
LOCATION:Kino Tuškanac
DESCRIPTION:SAD, 1971 | Mjesto prikazivanja filma: Centar za kulturu Histrionski dom (Ilica 90) R: Bill Norton
END:VEVENT
END:VCALENDAR