BEGIN:VCALENDAR
VERSION:2.0
PRODID:-//Kino Tuškanac//Filmski programi//HR
BEGIN:VEVENT
UID:2377f5fa5c2972fd5b49d10766ab5463@kinotuskanac.hr
DTSTAMP:20260421T133637Z
DTSTART:20241206T210000
DTEND:20241206T230000
SUMMARY:Pat Garrett i Billy the Kid
LOCATION:Kino Tuškanac
DESCRIPTION:Pat Garrett & Billy the Kid, SAD, 1973 | Mjesto prikazivanja filma: Kulturno informativni centar KIC (Preradovićeva ul. 5) R: Sam Peckinpah
END:VEVENT
END:VCALENDAR