BEGIN:VCALENDAR
VERSION:2.0
PRODID:-//Kino Tuškanac//Filmski programi//HR
BEGIN:VEVENT
UID:4a44e0afefd9c3b2141ce4f117af8949@kinotuskanac.hr
DTSTAMP:20260421T092812Z
DTSTART:20241208T210000
DTEND:20241208T230000
SUMMARY:Zvijezda je rođena
LOCATION:Kino Tuškanac
DESCRIPTION:A Star Is Born, SAD, 1976 | Mjesto prikazivanja filma: Kulturno informativni centar KIC (Preradovićeva ul. 5) R: Frank Pierson
END:VEVENT
END:VCALENDAR