BEGIN:VCALENDAR
VERSION:2.0
PRODID:-//Kino Tuškanac//Filmski programi//HR
BEGIN:VEVENT
UID:4f5e6b019d7119c89f6a658880ad3ba6@kinotuskanac.hr
DTSTAMP:20260423T204808Z
DTSTART:20241209T190000
DTEND:20241209T210000
SUMMARY:Braća
LOCATION:Kino Tuškanac
DESCRIPTION:Bratři, Češka, 2023 | Mjesto prikazivanja filma: Centar za kulturu Histrionski dom (Ilica 90) R: Tomáš Mašín
END:VEVENT
END:VCALENDAR