BEGIN:VCALENDAR
VERSION:2.0
PRODID:-//Kino Tuškanac//Filmski programi//HR
BEGIN:VEVENT
UID:e9fddb4ca9b74fa2c55a835936c7daac@kinotuskanac.hr
DTSTAMP:20260419T141934Z
DTSTART:20241211T210000
DTEND:20241211T230000
SUMMARY:O nečem drugom
LOCATION:Kino Tuškanac
DESCRIPTION:O necem jiném, Čehoslovačka, 1963 | Mjesto prikazivanja filma: Kulturno informativni centar KIC (Preradovićeva ul. 5) R: Vera Chytilová
END:VEVENT
END:VCALENDAR