BEGIN:VCALENDAR
VERSION:2.0
PRODID:-//Kino Tuškanac//Filmski programi//HR
BEGIN:VEVENT
UID:9f476b7181cc789ce187be7c3a555237@kinotuskanac.hr
DTSTAMP:20260422T123042Z
DTSTART:20241212T210000
DTEND:20241212T230000
SUMMARY:Vreća buha
LOCATION:Kino Tuškanac
DESCRIPTION:Pytel blech, Čehoslovačka, 1962 | Mjesto prikazivanja filma: Kulturno informativni centar KIC (Preradovićeva ul. 5) R: Vera Chytilová
END:VEVENT
END:VCALENDAR