BEGIN:VCALENDAR
VERSION:2.0
PRODID:-//Kino Tuškanac//Filmski programi//HR
BEGIN:VEVENT
UID:61d0adf9fab7174ccca4a2fcf2343867@kinotuskanac.hr
DTSTAMP:20260420T072331Z
DTSTART:20241214T210000
DTEND:20241214T230000
SUMMARY:Priča iz novogradnje
LOCATION:Kino Tuškanac
DESCRIPTION:Panelstory aneb Jak se rodi sidlište, Češka, 1979 | Mjesto prikazivanja filma: Kulturno informativni centar KIC (Preradovićeva ul. 5) R: Vera Chytilová
END:VEVENT
END:VCALENDAR