BEGIN:VCALENDAR
VERSION:2.0
PRODID:-//Kino Tuškanac//Filmski programi//HR
BEGIN:VEVENT
UID:2003e96ee7d8c2826de915543cca8ba2@kinotuskanac.hr
DTSTAMP:20260423T220320Z
DTSTART:20241215T210000
DTEND:20241215T230000
SUMMARY:Vučja koliba
LOCATION:Kino Tuškanac
DESCRIPTION:Vlčí bouda, Čehoslovačka, 1986 | Mjesto prikazivanja filma: Kulturno informativni centar KIC (Preradovićeva ul. 5) R: Vera Chytilová
END:VEVENT
END:VCALENDAR