BEGIN:VCALENDAR
VERSION:2.0
PRODID:-//Kino Tuškanac//Filmski programi//HR
BEGIN:VEVENT
UID:8e226a0686ba8693495329423c8a0369@kinotuskanac.hr
DTSTAMP:20260426T032527Z
DTSTART:20241227T210000
DTEND:20241227T230000
SUMMARY:Emilia Pérez
LOCATION:Kino Tuškanac
DESCRIPTION:Francuska, 2024 | Mjesto prikazivanja filma: Kulturno informativni centar KIC (Preradovićeva ul. 5) R: Jacques Audiard
END:VEVENT
END:VCALENDAR