BEGIN:VCALENDAR
VERSION:2.0
PRODID:-//Kino Tuškanac//Filmski programi//HR
BEGIN:VEVENT
UID:caccf12c934cb32bb3a5c4c36cdc30de@kinotuskanac.hr
DTSTAMP:20260423T144008Z
DTSTART:20241210T210000
DTEND:20241210T230000
SUMMARY:Hudodrakija
LOCATION:Kino Tuškanac
DESCRIPTION:Jabberwocky, Čehoslovačka, 1971 | Mjesto prikazivanja filma: Centar za kulturu Histrionski dom (Ilica 90) R: Jan Švankmajer
END:VEVENT
END:VCALENDAR