BEGIN:VCALENDAR
VERSION:2.0
PRODID:-//Kino Tuškanac//Filmski programi//HR
BEGIN:VEVENT
UID:11ff2a4a6289f4e98067b75333db53b3@kinotuskanac.hr
DTSTAMP:20260423T144042Z
DTSTART:20241210T210000
DTEND:20241210T230000
SUMMARY:Zbor
LOCATION:Kino Tuškanac
DESCRIPTION:Hamsarayan, Iran, 1982 R: Abbas Kiarostami
END:VEVENT
END:VCALENDAR