BEGIN:VCALENDAR
VERSION:2.0
PRODID:-//Kino Tuškanac//Filmski programi//HR
BEGIN:VEVENT
UID:39fa1e6e1d9704820d5a8b4b982e7dbc@kinotuskanac.hr
DTSTAMP:20260423T143729Z
DTSTART:20241210T210000
DTEND:20241210T230000
SUMMARY:Crveni balon
LOCATION:Kino Tuškanac
DESCRIPTION:Le ballon rouge, Francuska, 1956 R: Albert Lamorisse
END:VEVENT
END:VCALENDAR