BEGIN:VCALENDAR
VERSION:2.0
PRODID:-//Kino Tuškanac//Filmski programi//HR
BEGIN:VEVENT
UID:f736ee63fb0ff420c26069db686fc98a@kinotuskanac.hr
DTSTAMP:20260419T142132Z
DTSTART:20241223T190000
DTEND:20241223T210000
SUMMARY:Čovjek koji nije mogao šutjeti
LOCATION:Kino Tuškanac
DESCRIPTION:HR, BG, FR, SI, 2024 R: Nebojša Slijepčević
END:VEVENT
END:VCALENDAR