BEGIN:VCALENDAR
VERSION:2.0
PRODID:-//Kino Tuškanac//Filmski programi//HR
BEGIN:VEVENT
UID:4f9dc871b919e525e704435bc340e394@kinotuskanac.hr
DTSTAMP:20260423T145037Z
DTSTART:20241217T190000
DTEND:20241217T210000
SUMMARY:To je bio randevu
LOCATION:Kino Tuškanac
DESCRIPTION:C'était un rendez-vous, Francuska, 1976 | Mjesto prikazivanja filma: Centar za kulturu Histrionski dom (Ilica 90) R: Claude Lelouch
END:VEVENT
END:VCALENDAR