BEGIN:VCALENDAR
VERSION:2.0
PRODID:-//Kino Tuškanac//Filmski programi//HR
BEGIN:VEVENT
UID:6544e880b4cf26699005d3e12aab9d34@kinotuskanac.hr
DTSTAMP:20260421T122546Z
DTSTART:20060609T210000
DTEND:20060609T230000
SUMMARY:Posljedice ljubavi
LOCATION:Kino Tuškanac
DESCRIPTION:Le conseguenze dell'amore, Italija, 2004 R: Paolo Sorrentino
END:VEVENT
END:VCALENDAR