BEGIN:VCALENDAR
VERSION:2.0
PRODID:-//Kino Tuškanac//Filmski programi//HR
BEGIN:VEVENT
UID:b81d39c4841d9c2048ea69f4b44cdcdd@kinotuskanac.hr
DTSTAMP:20260421T230537Z
DTSTART:20241217T190000
DTEND:20241217T210000
SUMMARY:Sretna godišnjica
LOCATION:Kino Tuškanac
DESCRIPTION:Heureux Anniversaire, Francuska, 1962 R: Pierre Étaix, Jean-Claude Carrière
END:VEVENT
END:VCALENDAR