BEGIN:VCALENDAR
VERSION:2.0
PRODID:-//Kino Tuškanac//Filmski programi//HR
BEGIN:VEVENT
UID:8add367f6198d2b5d924f56d25386bbc@kinotuskanac.hr
DTSTAMP:20260423T112251Z
DTSTART:20241217T190000
DTEND:20241217T210000
SUMMARY:Svjetlost Broadwaya
LOCATION:Kino Tuškanac
DESCRIPTION:Broadway by Light, Francuska, SAD, 1959 R: William Klein
END:VEVENT
END:VCALENDAR