BEGIN:VCALENDAR
VERSION:2.0
PRODID:-//Kino Tuškanac//Filmski programi//HR
BEGIN:VEVENT
UID:37b14a3f325c0051604bc59b9eb146f2@kinotuskanac.hr
DTSTAMP:20260423T143947Z
DTSTART:20241217T190000
DTEND:20241217T210000
SUMMARY:Moguće u Michiganu
LOCATION:Kino Tuškanac
DESCRIPTION:Possibly in Michigan, SAD, 1983 R: Cecilia Condut
END:VEVENT
END:VCALENDAR