BEGIN:VCALENDAR
VERSION:2.0
PRODID:-//Kino Tuškanac//Filmski programi//HR
BEGIN:VEVENT
UID:61d9da9256bb6018cfd15129cdda1aab@kinotuskanac.hr
DTSTAMP:20260425T174500Z
DTSTART:20241230T210000
DTEND:20241230T230000
SUMMARY:I Saw the TV Glow
LOCATION:Kino Tuškanac
DESCRIPTION:SAD, 2024 | Mjesto prikazivanja filma: Kulturno informativni centar KIC (Preradovićeva ul. 5) R: Jane Schoenbrun
END:VEVENT
END:VCALENDAR