BEGIN:VCALENDAR
VERSION:2.0
PRODID:-//Kino Tuškanac//Filmski programi//HR
BEGIN:VEVENT
UID:3732d1ee8954d460ef09dafe5af92900@kinotuskanac.hr
DTSTAMP:20260423T143853Z
DTSTART:20241217T190000
DTEND:20241217T210000
SUMMARY:Ne-svest
LOCATION:Kino Tuškanac
DESCRIPTION:2024 R: Ivica Đorđević
END:VEVENT
END:VCALENDAR