BEGIN:VCALENDAR
VERSION:2.0
PRODID:-//Kino Tuškanac//Filmski programi//HR
BEGIN:VEVENT
UID:249ea8a708968c65e8279c50e56414b6@kinotuskanac.hr
DTSTAMP:20260421T122721Z
DTSTART:20060610T170000
DTEND:20060610T190000
SUMMARY:Posljedice ljubavi
LOCATION:Kino Tuškanac
DESCRIPTION:Le conseguenze dell'amore, Italija, 2004 R: Paolo Sorrentino
END:VEVENT
END:VCALENDAR