BEGIN:VCALENDAR
VERSION:2.0
PRODID:-//Kino Tuškanac//Filmski programi//HR
BEGIN:VEVENT
UID:4a1072076c9e5b8b223deecc5a7c2e00@kinotuskanac.hr
DTSTAMP:20260421T093529Z
DTSTART:20250108T190000
DTEND:20250108T210000
SUMMARY:Moja draga Klementina
LOCATION:Kino Tuškanac
DESCRIPTION:My Darling Clementine, SAD, 1946 | Mjesto prikazivanja filma: Kulturno informativni centar KIC (Preradovićeva ul. 5) R: John Ford
END:VEVENT
END:VCALENDAR