BEGIN:VCALENDAR
VERSION:2.0
PRODID:-//Kino Tuškanac//Filmski programi//HR
BEGIN:VEVENT
UID:914670abfbccb3fa8bf8413e1bd90a13@kinotuskanac.hr
DTSTAMP:20260422T223825Z
DTSTART:20250109T190000
DTEND:20250109T210000
SUMMARY:Ljubav u Mumbaiju
LOCATION:Kino Tuškanac
DESCRIPTION:All We Imagine as Light, Indija, Francuska, Nizozemska, Luksemburg, Italija, 2024 | Mjesto prikazivanja filma: Kino Forum (SD Stjepan Radić, Jarunska ul. 2) R: Payal Kapadia
END:VEVENT
END:VCALENDAR