BEGIN:VCALENDAR
VERSION:2.0
PRODID:-//Kino Tuškanac//Filmski programi//HR
BEGIN:VEVENT
UID:aeee964be9edf9b2ea80ee3bb71af706@kinotuskanac.hr
DTSTAMP:20260424T011508Z
DTSTART:20250111T210000
DTEND:20250111T230000
SUMMARY:Na apaškoj granici
LOCATION:Kino Tuškanac
DESCRIPTION:Fort Apache, SAD, 1948 | Mjesto prikazivanja filma: Kulturno informativni centar KIC (Preradovićeva ul. 5) R: John Ford
END:VEVENT
END:VCALENDAR