BEGIN:VCALENDAR
VERSION:2.0
PRODID:-//Kino Tuškanac//Filmski programi//HR
BEGIN:VEVENT
UID:07f1b182b06a24f329b47a05e02d8c03@kinotuskanac.hr
DTSTAMP:20260421T080338Z
DTSTART:20250113T190000
DTEND:20250113T210000
SUMMARY:Točno u podne
LOCATION:Kino Tuškanac
DESCRIPTION:High Noon, SAD, 1952 | Mjesto prikazivanja filma: Centar za kulturu Histrionski dom (Ilica 90) R: Fred Zinnemann
END:VEVENT
END:VCALENDAR