BEGIN:VCALENDAR
VERSION:2.0
PRODID:-//Kino Tuškanac//Filmski programi//HR
BEGIN:VEVENT
UID:7e414490c3a19a56c6082a6e668d2d81@kinotuskanac.hr
DTSTAMP:20260421T182549Z
DTSTART:20250113T210000
DTEND:20250113T230000
SUMMARY:Izgubljeni horizont
LOCATION:Kino Tuškanac
DESCRIPTION:Lost Horizon, SAD, 1937 | Mjesto prikazivanja filma: Centar za kulturu Histrionski dom (Ilica 90) R: Frank Capra
END:VEVENT
END:VCALENDAR