BEGIN:VCALENDAR
VERSION:2.0
PRODID:-//Kino Tuškanac//Filmski programi//HR
BEGIN:VEVENT
UID:c1d1b5f3bc91e878533ed8dbb04c3640@kinotuskanac.hr
DTSTAMP:20260419T141805Z
DTSTART:20060627T200000
DTEND:20060627T220000
SUMMARY:Goya u Bordeauxu
LOCATION:Kino Tuškanac
DESCRIPTION:Goya en Burdeos, 1999 R: Carlos Saura
END:VEVENT
END:VCALENDAR